BEGIN:VCALENDAR
VERSION:2.0
PRODID:-//Glendale Latino Association - ECPv5.7.0//NONSGML v1.0//EN
CALSCALE:GREGORIAN
METHOD:PUBLISH
X-WR-CALNAME:Glendale Latino Association
X-ORIGINAL-URL:https://www.glendalelatinoassociation.com
X-WR-CALDESC:Events for Glendale Latino Association
BEGIN:VTIMEZONE
TZID:America/Los_Angeles
BEGIN:DAYLIGHT
TZOFFSETFROM:-0800
TZOFFSETTO:-0700
TZNAME:PDT
DTSTART:20190310T100000
END:DAYLIGHT
BEGIN:STANDARD
TZOFFSETFROM:-0700
TZOFFSETTO:-0800
TZNAME:PST
DTSTART:20191103T090000
END:STANDARD
END:VTIMEZONE
BEGIN:VEVENT
DTSTART;VALUE=DATE:20191218
DTEND;VALUE=DATE:20191219
DTSTAMP:20260425T070732
CREATED:20191114T145920Z
LAST-MODIFIED:20191115T171351Z
UID:5127-1576627200-1576713599@www.glendalelatinoassociation.com
SUMMARY:Wine & Wrap Stay At Home Holiday Mixer
DESCRIPTION:Glendale Latino Association requests the pleasure of your participation for our Wine & Wrap Stay At Home Holiday Mixer!\nJoin in the Holiday Giving Spirit!\nTo donate you may do so online or mail to Glendale Latino Association\, P.O. Box 806\, Verdugo City\, CA 91046.\nWHEN: Anytime on Wednesday\, December 18\, 2019 or throughout the month of December!\nWHERE: Any place you feel most comfortable at home; by the fireplace\, at the kitchen or dining room table\, or anywhere you like!\nHOW: Support the Glendale Latino Association Scholarship Program by donating what your heart desires!\nATTIRE: Pajamas recommended!!!\nFOOD & DRINK: Wine of course\, perhaps with some nice cheese or anything your palate desires!\nGUESTS: Everyone is welcome!  Invite your family\, friends\, business associates\, neighbors!\nAll contributions are fully tax-deductible. No goods\, services\, or benefits are provided. \nGLA Tax ID #95-4306673 (510c3) \nMarisol Chianello & Jennie Quinonez-Skinner – Co-Chairs \nMiryam Finkelberg\, Albert Hernandez\, Jasmine Venegas-Goulet\, Amy Navarrete & Mercy Velazquez – Committee \nIN THE SPIRIT OF GIVING!\n \n\n\n\nDonation\n\n\nGLA Legend $1\,000.00 USDGLA Hero $500.00 USDGLA Champion $250.00 USDGLA Advocate $100.00 USDGLA Enthusiast $50.00 USDGLA Admirer $25.00 USD
URL:https://www.glendalelatinoassociation.com/event/wine-wrap-stay-home-mixer/
ATTACH;FMTTYPE=image/jpeg:https://www.glendalelatinoassociation.com/wp-content/uploads/13259.jpeg
END:VEVENT
END:VCALENDAR