BEGIN:VCALENDAR
VERSION:2.0
PRODID:-//Glendale Latino Association - ECPv5.7.0//NONSGML v1.0//EN
CALSCALE:GREGORIAN
METHOD:PUBLISH
X-WR-CALNAME:Glendale Latino Association
X-ORIGINAL-URL:https://www.glendalelatinoassociation.com
X-WR-CALDESC:Events for Glendale Latino Association
BEGIN:VTIMEZONE
TZID:America/Los_Angeles
BEGIN:DAYLIGHT
TZOFFSETFROM:-0800
TZOFFSETTO:-0700
TZNAME:PDT
DTSTART:20160313T100000
END:DAYLIGHT
BEGIN:STANDARD
TZOFFSETFROM:-0700
TZOFFSETTO:-0800
TZNAME:PST
DTSTART:20161106T090000
END:STANDARD
END:VTIMEZONE
BEGIN:VEVENT
DTSTART;TZID=America/Los_Angeles:20160427T173000
DTEND;TZID=America/Los_Angeles:20160427T173000
DTSTAMP:20260425T183646
CREATED:20160223T181537Z
LAST-MODIFIED:20160423T214725Z
UID:251-1461778200-1461778200@www.glendalelatinoassociation.com
SUMMARY:"Spring Into Action" Mixer
DESCRIPTION:[vc_row][vc_column width=”2/3″][vc_column_text]\nNETWORK\, FUN… BRING A DRAWING PRIZE…GET YOUR BUSINESS RECOGNIZED AND BRING A FRIEND OR…TWO\nAdmission:\n$10 for Members \n$15.00 for Non Members \nYour Contributions and Sponsorships benefit our Annual Scholarship Fund!\n225 E. Broadway\, Glendale 91205[/vc_column_text][/vc_column][vc_column width=”1/3″][vc_single_image image=”750″ img_size=”large”][/vc_column][/vc_row][vc_row][vc_column][/vc_column][/vc_row]
URL:https://www.glendalelatinoassociation.com/event/spring-into-action-mixer/
ATTACH;FMTTYPE=image/jpeg:https://www.glendalelatinoassociation.com/wp-content/uploads/April-27-Mixer-3C..jpg
END:VEVENT
END:VCALENDAR