BEGIN:VCALENDAR
VERSION:2.0
PRODID:-//Glendale Latino Association - ECPv5.7.0//NONSGML v1.0//EN
CALSCALE:GREGORIAN
METHOD:PUBLISH
X-WR-CALNAME:Glendale Latino Association
X-ORIGINAL-URL:https://www.glendalelatinoassociation.com
X-WR-CALDESC:Events for Glendale Latino Association
BEGIN:VTIMEZONE
TZID:America/Los_Angeles
BEGIN:DAYLIGHT
TZOFFSETFROM:-0800
TZOFFSETTO:-0700
TZNAME:PDT
DTSTART:20160313T100000
END:DAYLIGHT
BEGIN:STANDARD
TZOFFSETFROM:-0700
TZOFFSETTO:-0800
TZNAME:PST
DTSTART:20161106T090000
END:STANDARD
END:VTIMEZONE
BEGIN:VEVENT
DTSTART;TZID=America/Los_Angeles:20160425T160000
DTEND;TZID=America/Los_Angeles:20160426T160000
DTSTAMP:20260425T171439
CREATED:20160223T181427Z
LAST-MODIFIED:20160403T182306Z
UID:250-1461600000-1461686400@www.glendalelatinoassociation.com
SUMMARY:Scholarship Interviews
DESCRIPTION:
URL:https://www.glendalelatinoassociation.com/event/scholarship-interviews/
END:VEVENT
END:VCALENDAR