BEGIN:VCALENDAR
VERSION:2.0
PRODID:-//Glendale Latino Association - ECPv5.7.0//NONSGML v1.0//EN
CALSCALE:GREGORIAN
METHOD:PUBLISH
X-WR-CALNAME:Glendale Latino Association
X-ORIGINAL-URL:https://www.glendalelatinoassociation.com
X-WR-CALDESC:Events for Glendale Latino Association
BEGIN:VTIMEZONE
TZID:America/Los_Angeles
BEGIN:DAYLIGHT
TZOFFSETFROM:-0800
TZOFFSETTO:-0700
TZNAME:PDT
DTSTART:20190310T100000
END:DAYLIGHT
BEGIN:STANDARD
TZOFFSETFROM:-0700
TZOFFSETTO:-0800
TZNAME:PST
DTSTART:20191103T090000
END:STANDARD
END:VTIMEZONE
BEGIN:VEVENT
DTSTART;TZID=America/Los_Angeles:20190523T073000
DTEND;TZID=America/Los_Angeles:20190523T093000
DTSTAMP:20260425T101147
CREATED:20190401T193556Z
LAST-MODIFIED:20190520T060220Z
UID:4959-1558596600-1558603800@www.glendalelatinoassociation.com
SUMMARY:2019 Scholarship Awards Breakfast
DESCRIPTION:Join us as we announce and celebrate the great work of students from our local high schools and community college. Purchase your tickets here . \n\n \n\n\n\nSponsorships & Tickets\n\n\nPh.D. Sponsor $500.00 USDMasters Sponsor $275.00 USDBachelor of Arts Sponsor $125.00 USDIndividual $35.00 USD\n\n\n\n\n \nThank you to our current 2019 Scholarship Breakfast Sponsors!\nAdventist Health Glendale\nAlbert Hernandez\nLaw Offices of Finkelberg & Finkelberg\nMike & Karen Swan\nCamille Levee \nThank you to our current 2019 Partners in Giving!\nArt & Paula Devine\nAdventist Health Glendale\nGCC Chief Gary Montecuollo\nMargaret Kaufman\nThe Accountancy
URL:https://www.glendalelatinoassociation.com/event/scholarship-awards-breakfast/
LOCATION:Oakmont Country Club\, 3100 Country Club Drive\, Glendale\, CA\, 91208\, United States
ATTACH;FMTTYPE=image/jpeg:https://www.glendalelatinoassociation.com/wp-content/uploads/2019-gla-scholarship-flyer.jpg
END:VEVENT
END:VCALENDAR