BEGIN:VCALENDAR
VERSION:2.0
PRODID:-//Glendale Latino Association - ECPv5.7.0//NONSGML v1.0//EN
CALSCALE:GREGORIAN
METHOD:PUBLISH
X-WR-CALNAME:Glendale Latino Association
X-ORIGINAL-URL:https://www.glendalelatinoassociation.com
X-WR-CALDESC:Events for Glendale Latino Association
BEGIN:VTIMEZONE
TZID:America/Los_Angeles
BEGIN:DAYLIGHT
TZOFFSETFROM:-0800
TZOFFSETTO:-0700
TZNAME:PDT
DTSTART:20210314T100000
END:DAYLIGHT
BEGIN:STANDARD
TZOFFSETFROM:-0700
TZOFFSETTO:-0800
TZNAME:PST
DTSTART:20211107T090000
END:STANDARD
END:VTIMEZONE
BEGIN:VEVENT
DTSTART;TZID=America/Los_Angeles:20211208T170000
DTEND;TZID=America/Los_Angeles:20211208T190000
DTSTAMP:20260423T050335
CREATED:20211201T015052Z
LAST-MODIFIED:20211202T180149Z
UID:6167-1638982800-1638990000@www.glendalelatinoassociation.com
SUMMARY:Latinx Restaurant Crawl and Toy Drive
DESCRIPTION:[vc_row][vc_column][/vc_column][/vc_row][vc_row][vc_column][vc_btn title=”Map” color=”success” size=”lg” link=”url:https%3A%2F%2Fwww.google.com%2Fmaps%2Fd%2Fedit%3Fmid%3D10xFe684CCaSXsIa2kqfOV7o7lBRuT8wx%26usp%3Dsharing|||”][vc_raw_html]JTNDaWZyYW1lJTIwc3JjJTNEJTIyaHR0cHMlM0ElMkYlMkZ3d3cuZ29vZ2xlLmNvbSUyRm1hcHMlMkZkJTJGZW1iZWQlM0ZtaWQlM0QxMHhGZTY4NENDYVNYc0lhMmtxZk9WN283bEJSdVQ4d3glMjIlMjB3aWR0aCUzRCUyMjY0MCUyMiUyMGhlaWdodCUzRCUyMjQ4MCUyMiUzRSUzQyUyRmlmcmFtZSUzRQ==[/vc_raw_html][vc_column_text css=”.vc_custom_1638468046412{margin-bottom: 0px !important;}”][/vc_column_text][/vc_column][/vc_row][vc_row][vc_column][vc_column_text css=”.vc_custom_1638467765446{margin-bottom: 0px !important;}”]5:00 PM – 7:00 PM\nDecember 8\, 2021 \nYou can either meet at Porto’s or explore your own route downtown. We are asking for folks to support local restaurants by purchasing food or taking a picture and sharing it online with the #GlendaleLatinos\, we will share your photos to GLA and Adelante\, Latinos social media. Don’t forget to bring a GIFT for older children/teens (Cops for Kids is in need of gift cards for this group). \nA special thank you to Betty Porto and Porto’s Bakery for providing space outside of the bakery for this year’s toy drive.  \n¡Adelante\, Latinos! Cafe Girasol is a monthly gathering for parents\, teachers\, and students from GUSD. Regular meetings are on the last Monday of the month.  \nCops for Kids targets the needs of the community’s underprivileged\, disabled\, hospitalized\, and at-risk children\, as well as those who are victims of accidents and/or crimes. [/vc_column_text][vc_column_text css=”.vc_custom_1638463764535{margin-bottom: 0px !important;}”][/vc_column_text][/vc_column][/vc_row]
URL:https://www.glendalelatinoassociation.com/event/latinx-restaurant-crawl/
END:VEVENT
END:VCALENDAR