BEGIN:VCALENDAR
VERSION:2.0
PRODID:-//Glendale Latino Association - ECPv5.7.0//NONSGML v1.0//EN
CALSCALE:GREGORIAN
METHOD:PUBLISH
X-WR-CALNAME:Glendale Latino Association
X-ORIGINAL-URL:https://www.glendalelatinoassociation.com
X-WR-CALDESC:Events for Glendale Latino Association
BEGIN:VTIMEZONE
TZID:America/Los_Angeles
BEGIN:DAYLIGHT
TZOFFSETFROM:-0800
TZOFFSETTO:-0700
TZNAME:PDT
DTSTART:20210314T100000
END:DAYLIGHT
BEGIN:STANDARD
TZOFFSETFROM:-0700
TZOFFSETTO:-0800
TZNAME:PST
DTSTART:20211107T090000
END:STANDARD
END:VTIMEZONE
BEGIN:VEVENT
DTSTART;TZID=America/Los_Angeles:20210708T090000
DTEND;TZID=America/Los_Angeles:20210708T103000
DTSTAMP:20260423T062316
CREATED:20210205T031308Z
LAST-MODIFIED:20210205T031308Z
UID:5814-1625734800-1625740200@www.glendalelatinoassociation.com
SUMMARY:GLA Board Meeting
DESCRIPTION:
URL:https://www.glendalelatinoassociation.com/event/july-board-meeting/
CATEGORIES:Board Meetings
END:VEVENT
END:VCALENDAR