BEGIN:VCALENDAR
VERSION:2.0
PRODID:-//Glendale Latino Association - ECPv5.7.0//NONSGML v1.0//EN
CALSCALE:GREGORIAN
METHOD:PUBLISH
X-WR-CALNAME:Glendale Latino Association
X-ORIGINAL-URL:https://www.glendalelatinoassociation.com
X-WR-CALDESC:Events for Glendale Latino Association
BEGIN:VTIMEZONE
TZID:America/Los_Angeles
BEGIN:DAYLIGHT
TZOFFSETFROM:-0800
TZOFFSETTO:-0700
TZNAME:PDT
DTSTART:20170312T100000
END:DAYLIGHT
BEGIN:STANDARD
TZOFFSETFROM:-0700
TZOFFSETTO:-0800
TZNAME:PST
DTSTART:20171105T090000
END:STANDARD
END:VTIMEZONE
BEGIN:VEVENT
DTSTART;TZID=America/Los_Angeles:20170125T080000
DTEND;TZID=America/Los_Angeles:20170125T080000
DTSTAMP:20260425T212027
CREATED:20170123T180654Z
LAST-MODIFIED:20170123T180816Z
UID:1760-1485331200-1485331200@www.glendalelatinoassociation.com
SUMMARY:January Mixer - Cancelled
DESCRIPTION:
URL:https://www.glendalelatinoassociation.com/event/january-mixer-cancelled/
ATTACH;FMTTYPE=image/jpeg:https://www.glendalelatinoassociation.com/wp-content/uploads/january-25-mixer-cancelled.jpg
END:VEVENT
END:VCALENDAR