BEGIN:VCALENDAR
VERSION:2.0
PRODID:-//Glendale Latino Association - ECPv5.7.0//NONSGML v1.0//EN
CALSCALE:GREGORIAN
METHOD:PUBLISH
X-WR-CALNAME:Glendale Latino Association
X-ORIGINAL-URL:https://www.glendalelatinoassociation.com
X-WR-CALDESC:Events for Glendale Latino Association
BEGIN:VTIMEZONE
TZID:America/Los_Angeles
BEGIN:DAYLIGHT
TZOFFSETFROM:-0800
TZOFFSETTO:-0700
TZNAME:PDT
DTSTART:20240310T100000
END:DAYLIGHT
BEGIN:STANDARD
TZOFFSETFROM:-0700
TZOFFSETTO:-0800
TZNAME:PST
DTSTART:20241103T090000
END:STANDARD
END:VTIMEZONE
BEGIN:VEVENT
DTSTART;TZID=America/Los_Angeles:20241018T173000
DTEND;TZID=America/Los_Angeles:20241018T200000
DTSTAMP:20260423T051322
CREATED:20240930T062233Z
LAST-MODIFIED:20241002T151352Z
UID:6753-1729272600-1729281600@www.glendalelatinoassociation.com
SUMMARY:Glendale Latino Association Latin Rhytms Mixer
DESCRIPTION:[vc_row][vc_column][vc_column_text css=”.vc_custom_1727747742115{margin-bottom: 0px !important;}”]\nGlendale Latino Association Invites You to our\nLatin Rhythms Mixer at Jenkins Properties!\nJoin us for an unforgettable evening of music\, food\, and community!\nDate: Friday\, October 18th\nTime: 5:30 PM – 8:00 PM\nLocation: Jenkins Property Management Company\n2626 Honolulu Ave.\, Montrose\, CA 91020 \nEnjoy Delicious tacos and live music to keep the night lively \nEntry Fee: \n\nGLA Members: $15\nNon-Members: $20\n\nBuy your ticket here: https://www.glendalelatinoassociation.com/donations/ \n   \n  \n  \n  \nA Special Thank You to Our Host: Jenkins Property Management Company \nDon’t miss this exciting evening of Latin rhythms and great company. We look forward to seeing you there! \nFor more information visit our website: https://www.glendalelatinoassociation.com/[/vc_column_text][/vc_column][/vc_row]
URL:https://www.glendalelatinoassociation.com/event/glendale-latino-association-latin-rhytms-mixer/
LOCATION:Jenkins Property Management Company\, 2626 Honolulu Ave\, Montrose\, CA\, CA\, United States
END:VEVENT
END:VCALENDAR