BEGIN:VCALENDAR
VERSION:2.0
PRODID:-//Glendale Latino Association - ECPv5.7.0//NONSGML v1.0//EN
CALSCALE:GREGORIAN
METHOD:PUBLISH
X-WR-CALNAME:Glendale Latino Association
X-ORIGINAL-URL:https://www.glendalelatinoassociation.com
X-WR-CALDESC:Events for Glendale Latino Association
BEGIN:VTIMEZONE
TZID:America/Los_Angeles
BEGIN:DAYLIGHT
TZOFFSETFROM:-0800
TZOFFSETTO:-0700
TZNAME:PDT
DTSTART:20180311T100000
END:DAYLIGHT
BEGIN:STANDARD
TZOFFSETFROM:-0700
TZOFFSETTO:-0800
TZNAME:PST
DTSTART:20181104T090000
END:STANDARD
END:VTIMEZONE
BEGIN:VEVENT
DTSTART;TZID=America/Los_Angeles:20181128T170000
DTEND;TZID=America/Los_Angeles:20181128T173000
DTSTAMP:20260425T142750
CREATED:20180114T055315Z
LAST-MODIFIED:20180519T231829Z
UID:2590-1543424400-1543426200@www.glendalelatinoassociation.com
SUMMARY:GLA November Mixer - "Cops for Kids" Toy Drive
DESCRIPTION:NETWORK\, FUN… BRING A DRAWING PRIZE…GET YOUR BUSINESS RECOGNIZED AND BRING A FRIEND OR…TWO \n  \nAdmission: \n$10 for Members \n$15.00 for Non Members \n  \nYour Contributions and Sponsorships benefit our Annual Scholarship Fund
URL:https://www.glendalelatinoassociation.com/event/gla-november-mixer-cops-kids-toy-drive/
LOCATION:Porto’s Bakery & Cafe\, 315 N. Brand Blvd\, Glendale\, CA\, 91203\, United States
END:VEVENT
END:VCALENDAR