BEGIN:VCALENDAR
VERSION:2.0
PRODID:-//Glendale Latino Association - ECPv5.7.0//NONSGML v1.0//EN
CALSCALE:GREGORIAN
METHOD:PUBLISH
X-WR-CALNAME:Glendale Latino Association
X-ORIGINAL-URL:https://www.glendalelatinoassociation.com
X-WR-CALDESC:Events for Glendale Latino Association
BEGIN:VTIMEZONE
TZID:America/Los_Angeles
BEGIN:DAYLIGHT
TZOFFSETFROM:-0800
TZOFFSETTO:-0700
TZNAME:PDT
DTSTART:20190310T100000
END:DAYLIGHT
BEGIN:STANDARD
TZOFFSETFROM:-0700
TZOFFSETTO:-0800
TZNAME:PST
DTSTART:20191103T090000
END:STANDARD
END:VTIMEZONE
BEGIN:VEVENT
DTSTART;TZID=America/Los_Angeles:20190626T173000
DTEND;TZID=America/Los_Angeles:20190626T200000
DTSTAMP:20260425T125423
CREATED:20190609T075243Z
LAST-MODIFIED:20190619T194336Z
UID:5048-1561570200-1561579200@www.glendalelatinoassociation.com
SUMMARY:GLA June Summer Mixer
DESCRIPTION:Thank you to our mixer host AGE OF LEARNING \nJoin us on Wednesday\, June 26th\, 2019 at 5:30 pm  \nAdmission:\n$10.00 GLA Members\n$15.00 Non-Members \nCome network with your fellow GLA friends and family while enjoying the amazing workplace of Age of Learning.  \nFriends please consider bringing a raffle prize and attach your business card for maximum exposure! \nLet’s have fun while raising funds for our annual scholarship fund program. See you there \nNETWORK\, FUN… BRING A DRAWING PRIZE…GET YOUR BUSINESS RECOGNIZED AND BRING A FRIEND OR…TWO \n Your Contributions and Sponsorships benefit our Annual Scholarship Fund
URL:https://www.glendalelatinoassociation.com/event/gla-june-mixer-2/
LOCATION:The Age of Learning\, 101 N. Brand Boulevard\, Glendale\, CA\, 91203\, United States
ATTACH;FMTTYPE=image/jpeg:https://www.glendalelatinoassociation.com/wp-content/uploads/junemixer.jpg
END:VEVENT
END:VCALENDAR