BEGIN:VCALENDAR
VERSION:2.0
PRODID:-//Glendale Latino Association - ECPv5.7.0//NONSGML v1.0//EN
CALSCALE:GREGORIAN
METHOD:PUBLISH
X-WR-CALNAME:Glendale Latino Association
X-ORIGINAL-URL:https://www.glendalelatinoassociation.com
X-WR-CALDESC:Events for Glendale Latino Association
BEGIN:VTIMEZONE
TZID:America/Los_Angeles
BEGIN:DAYLIGHT
TZOFFSETFROM:-0800
TZOFFSETTO:-0700
TZNAME:PDT
DTSTART:20250309T100000
END:DAYLIGHT
BEGIN:STANDARD
TZOFFSETFROM:-0700
TZOFFSETTO:-0800
TZNAME:PST
DTSTART:20251102T090000
END:STANDARD
END:VTIMEZONE
BEGIN:VEVENT
DTSTART;TZID=America/Los_Angeles:20250123T173000
DTEND;TZID=America/Los_Angeles:20250123T200000
DTSTAMP:20260423T051203
CREATED:20250111T235353Z
LAST-MODIFIED:20250117T140344Z
UID:6812-1737653400-1737662400@www.glendalelatinoassociation.com
SUMMARY:GLA January 2025 Mixer
DESCRIPTION:Glendale Latino Association invites you to our first mixer of 2025 at the ace/121 Gallery! \nThank you to our host Glendale Arts for opening up their doors to GLA friends\, members and guests.  Come and share some time with friends and network in a beautiful gallery while enjoying delicious food from La Cubana Restaurant.   \nArshak Nazarian’s Personal Exhibition will be on view at the Gallery\, featuring a series of brand-new paintings\, including three exclusive\, never-before-seen works for visitors to experience for the first time. \nYour support will contribute to raising vital funds for Scholarships 🎓. \nWe hope to see you there! \nBuy your ticket here: https://www.glendalelatinoassociation.com/donations/
URL:https://www.glendalelatinoassociation.com/event/gla-january-2025-mixer/
LOCATION:ace/121 Gallery\, 140 N. Louise Street\, Glendale\, CA\, 91206\, United States
END:VEVENT
END:VCALENDAR