BEGIN:VCALENDAR
VERSION:2.0
PRODID:-//Glendale Latino Association - ECPv5.7.0//NONSGML v1.0//EN
CALSCALE:GREGORIAN
METHOD:PUBLISH
X-WR-CALNAME:Glendale Latino Association
X-ORIGINAL-URL:https://www.glendalelatinoassociation.com
X-WR-CALDESC:Events for Glendale Latino Association
BEGIN:VTIMEZONE
TZID:America/Los_Angeles
BEGIN:DAYLIGHT
TZOFFSETFROM:-0800
TZOFFSETTO:-0700
TZNAME:PDT
DTSTART:20190310T100000
END:DAYLIGHT
BEGIN:STANDARD
TZOFFSETFROM:-0700
TZOFFSETTO:-0800
TZNAME:PST
DTSTART:20191103T090000
END:STANDARD
END:VTIMEZONE
BEGIN:VEVENT
DTSTART;TZID=America/Los_Angeles:20191118T173000
DTEND;TZID=America/Los_Angeles:20191118T200000
DTSTAMP:20260425T085021
CREATED:20191002T124202Z
LAST-MODIFIED:20191005T120905Z
UID:5107-1574098200-1574107200@www.glendalelatinoassociation.com
SUMMARY:GLA "Cops for Kids" Holiday Toy Drive
DESCRIPTION:Join us for our GLA “Cops of Kids” Holiday Toy Drive \nBring a toy or a gift card and get in the Holiday Spirit! \nCome on over for delicious food\, friends and network in support of our Scholarship Fund.  \nThank you to our mixer host Porto’s Bakery & Cafe \nJoin us on Monday\, November 18th\, 2019 at 5:30 pm  \nAdmission:\n$10.00 GLA Members\n$15.00 Non-Members \nCome network with your fellow GLA friends and family. \nFriends please consider bringing a raffle prize and attach your business card for maximum exposure! \nLet’s have fun while raising funds for our annual scholarship fund program. See you there \nNETWORK\, FUN… BRING A DRAWING PRIZE…GET YOUR BUSINESS RECOGNIZED AND BRING A FRIEND OR…TWO \n Your Contributions and Sponsorships benefit our Annual Scholarship Fund
URL:https://www.glendalelatinoassociation.com/event/gla-cops-for-kids-holiday-toy-drive/
LOCATION:Porto’s Bakery & Cafe\, 315 N. Brand Blvd\, Glendale\, CA\, 91203\, United States
ATTACH;FMTTYPE=image/png:https://www.glendalelatinoassociation.com/wp-content/uploads/gla-toydrive-flyer.png
END:VEVENT
END:VCALENDAR