BEGIN:VCALENDAR
VERSION:2.0
PRODID:-//Glendale Latino Association - ECPv5.7.0//NONSGML v1.0//EN
CALSCALE:GREGORIAN
METHOD:PUBLISH
X-WR-CALNAME:Glendale Latino Association
X-ORIGINAL-URL:https://www.glendalelatinoassociation.com
X-WR-CALDESC:Events for Glendale Latino Association
BEGIN:VTIMEZONE
TZID:America/Los_Angeles
BEGIN:DAYLIGHT
TZOFFSETFROM:-0800
TZOFFSETTO:-0700
TZNAME:PDT
DTSTART:20190310T100000
END:DAYLIGHT
BEGIN:STANDARD
TZOFFSETFROM:-0700
TZOFFSETTO:-0800
TZNAME:PST
DTSTART:20191103T090000
END:STANDARD
END:VTIMEZONE
BEGIN:VEVENT
DTSTART;TZID=America/Los_Angeles:20190731T173000
DTEND;TZID=America/Los_Angeles:20190731T200000
DTSTAMP:20260425T125434
CREATED:20190916T223514Z
LAST-MODIFIED:20190916T223514Z
UID:5091-1564594200-1564603200@www.glendalelatinoassociation.com
SUMMARY:GLA Back to School Supply Drive Mixer
DESCRIPTION:Join us for our Back to School Supply Drive Mixer at the beautiful at Downtown Central Library in Glendale\, CA. Donate school supplies so we can in turn donate for the youth attending Glendale Unified schools. Appetizers\, drinks and opportunity drawings will be available. See you there! \n  \nThank you to our mixer host Glendale Library Arts & Culture \n  \nJoin us on Wednesday\, July 31st\, 2019 at 5:30 pm  \n  \nAdmission:\n$10.00 GLA Members\n$15.00 Non-Members \n  \nCome network with your fellow GLA friends and family. \n  \nFriends please consider bringing a raffle prize and attach your business card for maximum exposure! \n  \nLet’s have fun while raising funds for our annual scholarship fund program. \n  \nNETWORK\, FUN… BRING A DRAWING PRIZE…GET YOUR BUSINESS RECOGNIZED AND BRING A FRIEND OR…TWO \n  \n Your Contributions and Sponsorships benefit our Annual Scholarship Fund
URL:https://www.glendalelatinoassociation.com/event/gla-back-to-school-supply-drive-mixer/
LOCATION:Glendale Central Library\, 222 E. Harvard Street\, Glendale\, CA\, 91205\, United States
ATTACH;FMTTYPE=image/png:https://www.glendalelatinoassociation.com/wp-content/uploads/66710857_2438398796250140_9187893266232639488_n.png
END:VEVENT
END:VCALENDAR