BEGIN:VCALENDAR
VERSION:2.0
PRODID:-//Glendale Latino Association - ECPv5.7.0//NONSGML v1.0//EN
CALSCALE:GREGORIAN
METHOD:PUBLISH
X-WR-CALNAME:Glendale Latino Association
X-ORIGINAL-URL:https://www.glendalelatinoassociation.com
X-WR-CALDESC:Events for Glendale Latino Association
BEGIN:VTIMEZONE
TZID:America/Los_Angeles
BEGIN:DAYLIGHT
TZOFFSETFROM:-0800
TZOFFSETTO:-0700
TZNAME:PDT
DTSTART:20180311T100000
END:DAYLIGHT
BEGIN:STANDARD
TZOFFSETFROM:-0700
TZOFFSETTO:-0800
TZNAME:PST
DTSTART:20181104T090000
END:STANDARD
END:VTIMEZONE
BEGIN:VEVENT
DTSTART;TZID=America/Los_Angeles:20180425T173000
DTEND;TZID=America/Los_Angeles:20180425T200000
DTSTAMP:20260425T171450
CREATED:20180114T044550Z
LAST-MODIFIED:20180417T191741Z
UID:2582-1524677400-1524686400@www.glendalelatinoassociation.com
SUMMARY:GLA April Mixer
DESCRIPTION:NETWORK\, FUN… BRING A DRAWING PRIZE…GET YOUR BUSINESS RECOGNIZED AND BRING A FRIEND OR…TWO \n  \nAdmission: \n$10 for Members \n$15.00 for Non Members \n  \nYour Contributions and Sponsorships benefit our Annual Scholarship Fund
URL:https://www.glendalelatinoassociation.com/event/gla-april-mixer/
LOCATION:Casa de Ramos\, 827 W. Glenoaks Blvd.\, Glendale\, CA\, 91202\, United States
ATTACH;FMTTYPE=image/jpeg:https://www.glendalelatinoassociation.com/wp-content/uploads/april-mixer-bw.jpg
END:VEVENT
END:VCALENDAR