BEGIN:VCALENDAR
VERSION:2.0
PRODID:-//Glendale Latino Association - ECPv5.7.0//NONSGML v1.0//EN
CALSCALE:GREGORIAN
METHOD:PUBLISH
X-WR-CALNAME:Glendale Latino Association
X-ORIGINAL-URL:https://www.glendalelatinoassociation.com
X-WR-CALDESC:Events for Glendale Latino Association
BEGIN:VTIMEZONE
TZID:America/Los_Angeles
BEGIN:DAYLIGHT
TZOFFSETFROM:-0800
TZOFFSETTO:-0700
TZNAME:PDT
DTSTART:20260308T100000
END:DAYLIGHT
BEGIN:STANDARD
TZOFFSETFROM:-0700
TZOFFSETTO:-0800
TZNAME:PST
DTSTART:20261101T090000
END:STANDARD
END:VTIMEZONE
BEGIN:VEVENT
DTSTART;TZID=America/Los_Angeles:20260219T113000
DTEND;TZID=America/Los_Angeles:20260219T133000
DTSTAMP:20260423T035320
CREATED:20260107T071144Z
LAST-MODIFIED:20260209T075145Z
UID:7262-1771500600-1771507800@www.glendalelatinoassociation.com
SUMMARY:GLA 2026 AWARDS LUNCHEON AND BOARD INSTALLATION
DESCRIPTION:[vc_row][vc_column][vc_btn title=”Purchase Tickets & Sponsorship” color=”success” size=”lg” link=”url:https%3A%2F%2Fswipesimple.com%2Flinks%2Flnk_fb9bf949eab4435264c7d63627006c1a|title:Purchase%20Tickets%20%26%20Sponsorship||”][vc_column_text css=”.vc_custom_1770623487117{margin-bottom: 0px !important;}”]\nJoin us for a special afternoon of celebration\, leadership\, and community at the GLA Annual Installation & Awards Luncheon \nhttps://www.glendalelatinoassociation.com/events/  \n📅 Thursday\, February 19\, 2026⏰ 11:30 AM – 1:30 PM📍 Oakmont Country Club \nThis special event will feature the installation of our GLA Officers and Board of Directors\, whose year-round dedication helps strengthen our scholarship fund\, create meaningful networking opportunities\, and elevate Latino events and businesses in our community. Together\, these efforts make a lasting impact on the quality of life for Latinos—especially our youth. \n✨ Celebrate ExcellenceWe will proudly honor three outstanding leaders for their contributions and service: \n\n\nWoman of the Year ✨Miryam Orellana Finkelberg ✨ Finkelberg & Finkelberg Law Offices \n\n\nMan of the Year\,  ✨Albert Hernandez✨ Home Again LA- Chief Executive Officer \n\n\nOrganization of the Year ✨USC Verdugo Hills Hospital\, Keck Medicine of USC✨ \n\n\n🎓 Support Our FutureAll proceeds from this luncheon directly benefit the GLA Scholarship Program\, helping support the next generation of Latino leaders. \n🎟️ Tickets & Sponsorship OpportunitiesTickets are limited—please purchase in advance. \n\n\nGOLD Sponsorship – $1\,500Table with eight tickets & recognition \n\n\nSILVER Sponsorship – $750Four tickets & recognition \n\n\nBRONZE Sponsorship – $450Two tickets & recognition \n\n\nIndividual Ticket – $99 \n  \n\n\n  \n  \n  \n  \n  \n  \n  \n  \n  \n  \nWe look forward to celebrating with you and continuing our mission of empowerment\, education\, and community support. \n👉 Reserve your seat today! \n[/vc_column_text][/vc_column][/vc_row]
URL:https://www.glendalelatinoassociation.com/event/gla-2026-awards-luncheon-and-board-installation/
LOCATION:Oakmont Country Club\, 3100 Country Club Drive\, Glendale\, CA\, 91208\, United States
END:VEVENT
END:VCALENDAR