BEGIN:VCALENDAR
VERSION:2.0
PRODID:-//Glendale Latino Association - ECPv5.7.0//NONSGML v1.0//EN
CALSCALE:GREGORIAN
METHOD:PUBLISH
X-WR-CALNAME:Glendale Latino Association
X-ORIGINAL-URL:https://www.glendalelatinoassociation.com
X-WR-CALDESC:Events for Glendale Latino Association
BEGIN:VTIMEZONE
TZID:America/Los_Angeles
BEGIN:DAYLIGHT
TZOFFSETFROM:-0800
TZOFFSETTO:-0700
TZNAME:PDT
DTSTART:20210314T100000
END:DAYLIGHT
BEGIN:STANDARD
TZOFFSETFROM:-0700
TZOFFSETTO:-0800
TZNAME:PST
DTSTART:20211107T090000
END:STANDARD
END:VTIMEZONE
BEGIN:VEVENT
DTSTART;TZID=America/Los_Angeles:20211106T150000
DTEND;TZID=America/Los_Angeles:20211106T190000
DTSTAMP:20260423T050625
CREATED:20211106T170500Z
LAST-MODIFIED:20211106T170500Z
UID:6118-1636210800-1636225200@www.glendalelatinoassociation.com
SUMMARY:Día de los Muertos Community Celebration
DESCRIPTION:For more information visit https://www.eglendalelac.org/blog/nov-day-of-the-dead
URL:https://www.glendalelatinoassociation.com/event/dia-de-los-muertos-community-celebration/
END:VEVENT
END:VCALENDAR