BEGIN:VCALENDAR
VERSION:2.0
PRODID:-//Glendale Latino Association - ECPv5.7.0//NONSGML v1.0//EN
CALSCALE:GREGORIAN
METHOD:PUBLISH
X-WR-CALNAME:Glendale Latino Association
X-ORIGINAL-URL:https://www.glendalelatinoassociation.com
X-WR-CALDESC:Events for Glendale Latino Association
BEGIN:VTIMEZONE
TZID:America/Los_Angeles
BEGIN:DAYLIGHT
TZOFFSETFROM:-0800
TZOFFSETTO:-0700
TZNAME:PDT
DTSTART:20200308T100000
END:DAYLIGHT
BEGIN:STANDARD
TZOFFSETFROM:-0700
TZOFFSETTO:-0800
TZNAME:PST
DTSTART:20201101T090000
END:STANDARD
END:VTIMEZONE
BEGIN:VEVENT
DTSTART;TZID=America/Los_Angeles:20200220T113000
DTEND;TZID=America/Los_Angeles:20200220T133000
DTSTAMP:20260425T055608
CREATED:20191205T180827Z
LAST-MODIFIED:20200312T010128Z
UID:5153-1582198200-1582205400@www.glendalelatinoassociation.com
SUMMARY:2020 INSTALLATION AND AWARDS LUNCHEON
DESCRIPTION:Join us for our 2020 Installation & Awards Luncheon on Thursday\, February 20\, 2020 at the beautiful Oakmont Country Club in Glendale\, CA.  \nWe will be installing our GLA Officers and Directors who will begin serving as of March 1\, 2020. The board of directors works tirelessly to provide networking opportunities\, build our scholarship fund and raise awareness of Latino events and businesses.  \nWe will also be honoring some of Glendale’s finest individuals and organization.\nMan of the Year: Frank Quintero\, Glendale Council Member & Former Mayor\nWoman of the Year: Karen Swan\, Community Activist & Volunteer\nBusiness of the Year: Glendale Library\, Arts & Culture \nThank you to our sponsors to date (Click on the sponsors names to learn more about their mission): \nGOLD SPONSORS: \nAdventist Health Glendale  \nAge of Learning\nArt and Paula Devine\nCity of Glendale Water & Power\nDignity Health Glendale Memorial Hospital\nFinkelberg & Finkelberg Law Offices\nGlendale College Foundation\nGlendale Library\, Arts & Culture\nAlbert Hernandez \nGary Montecuollo – GCC Chief of Police\nJennie Quiñonez-Skinner & Linda Quiñonez\nMike & Karen Swan\nThe Accountancy\, CPAs and Advisors\nDr. David and Jane Viar\n SILVER SPONSORS:\nCommunity Development – Economic Development\nRichard Williams Photography Studio\nBRONZE SPONSORS:\nBradley & Gmelich LLP\nCabrini Literary Guild\nCity of Glendale\nCrescenta Valley Insurance\nAssemblymember Laura Friedman\nDario Frommer & Family\nGlendale Arts – Alex Theatre\nGlendale Chamber of Commerce\nGlendale College Board of Trustees\nGlendale Community College\nGlendale Police Department\nGlendale Unified School District\nGlendale Youth Alliance\, Inc.\nImmigration Attorney Nelson A. Castillo\nJenkins Properties Management\nKiwanis Club of Glendale\nLas Candelas\nMassage Envy Glendale\nNuccio’s Nurseries\nParagon Business Solutions LLC\nPorto’s Bakery & Café\nAnita Quiñonez Gabrielian\nRichard & Lila Ramirez\nPaul N. & Paulette R. Wood Charitable Trust\nConsider purchasing a sponsorship for your business\, service club\, family or any other group. Your sponsorship will make a large impact in the lives of Glendale’s future leaders. Not interested in a sponsorship? Purchase a ticket\, two\, or more and join in for the celebration. \nRegister to attend our event. \n\n \n\n\n\nSponsorships & Tickets\n\n\nGold Sponsor $1\,250.00 USDSilver Sponsor $650.00 USDBronze Sponsor $350.00 USDIndividual $75.00 USD\n\n\nLunch Meal Options\n\n\nChickenVegetarian\n\n\n\n\n\n \n\n 
URL:https://www.glendalelatinoassociation.com/event/2020-installation-and-awards-luncheon/
LOCATION:Oakmont Country Club\, 3100 Country Club Drive\, Glendale\, CA\, 91208\, United States
ATTACH;FMTTYPE=image/jpeg:https://www.glendalelatinoassociation.com/wp-content/uploads/gla-luncheon-invite-2020.jpeg
END:VEVENT
END:VCALENDAR