BEGIN:VCALENDAR
VERSION:2.0
PRODID:-//Glendale Latino Association - ECPv5.7.0//NONSGML v1.0//EN
CALSCALE:GREGORIAN
METHOD:PUBLISH
X-WR-CALNAME:Glendale Latino Association
X-ORIGINAL-URL:https://www.glendalelatinoassociation.com
X-WR-CALDESC:Events for Glendale Latino Association
BEGIN:VTIMEZONE
TZID:America/Los_Angeles
BEGIN:DAYLIGHT
TZOFFSETFROM:-0800
TZOFFSETTO:-0700
TZNAME:PDT
DTSTART:20190310T100000
END:DAYLIGHT
BEGIN:STANDARD
TZOFFSETFROM:-0700
TZOFFSETTO:-0800
TZNAME:PST
DTSTART:20191103T090000
END:STANDARD
END:VTIMEZONE
BEGIN:VEVENT
DTSTART;TZID=America/Los_Angeles:20190220T113000
DTEND;TZID=America/Los_Angeles:20190220T133000
DTSTAMP:20260425T141647
CREATED:20190117T024609Z
LAST-MODIFIED:20191114T145731Z
UID:4795-1550662200-1550669400@www.glendalelatinoassociation.com
SUMMARY:2019 Installation and Awards Luncheon
DESCRIPTION:Join us for our 2019 Installation & Awards Luncheon on Wednesday\, February 20\, 2019 at the beautiful Oakmont Country Club in Glendale\, CA.  \nWe will be installing our GLA Officers and Directors who will begin serving as of March 1\, 2019. The board of directors works tirelessly to provide networking opportunities\, build our scholarship fund and raise awareness of Latino events and businesses.  \nWe will also be honoring some of Glendale’s finest individuals and organization.\nMan of the Year: Dr. David Viar\, Glendale Community College\nWoman of the Year: Irene Bourdon\, Adventist Health Glendale\nBusiness of the Year: Age of Learning \nThank you to our sponsors to date (Click on the sponsors names to learn more about their mission):\nAge of Learning\nGlendale College Foundation\nDr. David & Jane Viar\nLaw Offices of Finkelberg & Finkelberg\nAlbert Hernandez\nMike & Karen Swan\nRich & Lila Ramirez\nThe Accountancy\nRichard Williams Photography\nGlendale Youth Alliance\nProfessional Development Center at GCC \n  \nConsider purchasing a sponsorship for your business\, service club\, family or any other group. Your sponsorship will make a large impact in the lives of Glendale’s future leaders. Not interested in a sponsorship? Purchase a ticket\, two\, or more and join in for the celebration. \nRegister to attend our event. \n \n \n\n\n\nSponsorships & Tickets\n\n\nGold Sponsor $1\,250.00 USDSilver Sponsor $650.00 USDBronze Sponsor $350.00 USDIndividual $75.00 USD\n\n\nLunch Meal Options\n\n\nChickenVegetarian
URL:https://www.glendalelatinoassociation.com/event/2019-installation-and-awards-luncheon/
LOCATION:Oakmont Country Club\, 3100 Country Club Drive\, Glendale\, CA\, 91208\, United States
END:VEVENT
END:VCALENDAR