BEGIN:VCALENDAR
VERSION:2.0
PRODID:-//Glendale Latino Association - ECPv5.7.0//NONSGML v1.0//EN
CALSCALE:GREGORIAN
METHOD:PUBLISH
X-WR-CALNAME:Glendale Latino Association
X-ORIGINAL-URL:https://www.glendalelatinoassociation.com
X-WR-CALDESC:Events for Glendale Latino Association
BEGIN:VTIMEZONE
TZID:America/Los_Angeles
BEGIN:DAYLIGHT
TZOFFSETFROM:-0800
TZOFFSETTO:-0700
TZNAME:PDT
DTSTART:20180311T100000
END:DAYLIGHT
BEGIN:STANDARD
TZOFFSETFROM:-0700
TZOFFSETTO:-0800
TZNAME:PST
DTSTART:20181104T090000
END:STANDARD
END:VTIMEZONE
BEGIN:VEVENT
DTSTART;TZID=America/Los_Angeles:20180228T113000
DTEND;TZID=America/Los_Angeles:20180228T133000
DTSTAMP:20260425T141110
CREATED:20180111T102702Z
LAST-MODIFIED:20180227T072232Z
UID:2564-1519817400-1519824600@www.glendalelatinoassociation.com
SUMMARY:2018 Installation & Awards Luncheon
DESCRIPTION:“GLA 2018 Installation & Awards Luncheon” \n  \n\n\n\n\nSponsorships & Tickets\n\n\n\n\nGold Sponsor $1\,250.00 USDSilver Sponsor $650.00 USDBronze Sponsor $350.00 USDIndividual $75.00 USD\n\n\n\n\nLunch Meal Options\n\n\n\n\nChickenVegetarian\n\n\n\n\n  \n\n\n 
URL:https://www.glendalelatinoassociation.com/event/2018-installation-awards-luncheon/
LOCATION:Oakmont Country Club\, 3100 Country Club Drive\, Glendale\, CA\, 91208\, United States
ATTACH;FMTTYPE=application/pdf:https://www.glendalelatinoassociation.com/wp-content/uploads/gla-invite-flyer-2018.pdf
END:VEVENT
END:VCALENDAR