BEGIN:VCALENDAR
VERSION:2.0
PRODID:-//Glendale Latino Association - ECPv5.7.0//NONSGML v1.0//EN
CALSCALE:GREGORIAN
METHOD:PUBLISH
X-WR-CALNAME:Glendale Latino Association
X-ORIGINAL-URL:https://www.glendalelatinoassociation.com
X-WR-CALDESC:Events for Glendale Latino Association
BEGIN:VTIMEZONE
TZID:America/Los_Angeles
BEGIN:DAYLIGHT
TZOFFSETFROM:-0800
TZOFFSETTO:-0700
TZNAME:PDT
DTSTART:20170312T100000
END:DAYLIGHT
BEGIN:STANDARD
TZOFFSETFROM:-0700
TZOFFSETTO:-0800
TZNAME:PST
DTSTART:20171105T090000
END:STANDARD
END:VTIMEZONE
BEGIN:VEVENT
DTSTART;TZID=America/Los_Angeles:20170518T073000
DTEND;TZID=America/Los_Angeles:20170518T090000
DTSTAMP:20260425T195944
CREATED:20170314T151335Z
LAST-MODIFIED:20171003T131420Z
UID:2041-1495092600-1495098000@www.glendalelatinoassociation.com
SUMMARY:2017 Scholarship Awards Breakfast
DESCRIPTION:[vc_row][vc_column][vc_column_text]\n\n[/vc_column_text][/vc_column][/vc_row]
URL:https://www.glendalelatinoassociation.com/event/2017-scholarship-awards-breakfast/
LOCATION:Oakmont Country Club\, 3100 Country Club Drive\, Glendale\, CA\, 91208\, United States
ATTACH;FMTTYPE=image/jpeg:https://www.glendalelatinoassociation.com/wp-content/uploads/breakfast-at-occ-invitation.jpg
END:VEVENT
END:VCALENDAR